Workbook
Name COMPONENTES: [1]tablas!$B$6:$D$36
Name DEPARTAMENTOS: [2]tablas!$C$313:$C$336
Name DEPARTAMENTOS: [2]tablas!$C$313:$C$336
Name DEPARTAMENTOS: [1]tablas!$C$305:$C$320
Name EELL: #REF!
Name EEPP: #REF!
Name ENTPORNIF: #REF!
Name HO_Estado: '[1]SUB-ACT GN'!$A$5:$R$421
Name LETRANIF: #REF!
Name MEDIDAS: [1]tablas!$B$47:$D$299
Name MINISTERIOS: [2]tablas!$D$354:$D$379
Name MINISTERIOS: [2]tablas!$D$354:$D$379
Name MINISTERIOS: [1]tablas!$D$345:$D$370
Name SegmentaciónDeDatos_1_Persona_física___jurídica: #N/A
Name SegmentaciónDeDatos_2_Forma_Jurídica: #N/A
Name SegmentaciónDeDatos_COMPONENTE1: #N/A
Name SegmentaciónDeDatos_Denominación_actuación_de_gestión: #N/A
Name SegmentaciónDeDatos_Departamento_de_gestión: #N/A
Name SegmentaciónDeDatos_Ejercicio_Contable: #N/A
Name SegmentaciónDeDatos_Ejercicio_Contable1: #N/A
Name SegmentaciónDeDatos_ID_Gestión__Nombre1: #N/A
Name SegmentaciónDeDatos_Localizador_CoFFEE___Nombre: #N/A
Name SegmentaciónDeDatos_Localizador_CoFFEE___Nombre1: #N/A
Name SegmentaciónDeDatos_NOMBRE_DPTO: #N/A
Name SegmentaciónDeDatos_NOMBRE_DPTO1: #N/A
Name SegmentaciónDeDatos_TIPO_GASTO: #N/A
Name SegmentaciónDeDatos_TIPO_GASTO1: #N/A

Sheet INDICE
A2: FONDOS MRR DEL GOBIERNO DE NAVARRA
A4: Para desplazarse por las hojas de este libro Excel, se puede presionar en las opciones coloreadas que aparecen a continuación
A6: CONSULTA ACTUACIONES | C6: CONTABILIDAD: TOTALES INGRESOS Y GASTOS (POR PROYECTOS CONTABLES)
A8: CONSULTA SUBPROYECTOS | C8: CONTABILIDAD: PARTIDAS INGRESOS
A10: CONSULTA CÓDIGOS BASE DATOS NACIONAL SUBVENCIONES | C10: CONTABILIDAD: PARTIDAS GASTOS
A12: CONSULTA CÓDIGOS CONTRATOS | C12: PERCEPTORES
C14: PERCEPTORES POR FORMA JURIDICA

Sheet 1-ACTUACIONES
A1: VOLVER AL INDICE
A2: LEYENDA
A3: Subproyecto del Sistema de Información (CoFFEE) | D3: Localizador asignado por el sistema de información CoFFEE-MRR para el suministro de información y seguimiento del PRTR.
A4: Denominación subproyecto en CoFFEE | D4: Denominación subproyectos dada por los ministerios en la aplicación CoFFEE-MRR (Plataforma Común Fondos Europeos)
A5: ID Actuación de gestión | D5: Código identificativo de cada actuación de gestión.
A6: DENOMINACIÓN de gestión | D6: Denominación de cada actuación de gestión.
A7: DEPARTAMENTO de gestión | D7: Departamento al que se asocia la gestión de una actuación.
A8: PLAN DE GESTIÓN | D8: Plan de gestión asociado a una actuación de gestión, identificado con una numeración interna a efectos de gestión. Los planes de gestión pendientes se irán añadiendo conforme los responsables los aprueben y trasladen a Coordinación PRTR.
A9: FINANCIACIÓN ASIGNADA MRR 2020-2026 | D9: Estimación de los ingresos MRR a recibir para cada actuación de gestión durante todo el periodo PRTR. Estimación realizada con la información disponible en el momento de elaboración de la tabla. La fuente de información no es el sistema contable sino una serie de documentación tal como planes de gestión, planes económico-presupuestarios, conferencias sectoriales, Reales Decretos, noticias oficiales, etc.
A10: Nivel de Vinculación con SAP | D10: De cara a la trazabilidad con el detalle de información contable (hojas 5 a 7), esta columna indica si el nivel de vinculación de una actuación con la contabilidad es a nivel de "proyecto contable" (1-PC, 3-VPC) o a subnivel de "elemento PEP" (2-EP, 4-VEP).
A11: Nº Proyecto Contable | D11: Número de proyecto contable (PC) asociado a una actuación de gestión.
A12: Elementos PEP | D12: Número de elemento PEP (EPEP) asociado a una actuación de gestión. Cuando se asocian varios EPEPs se indica con un guión. Por ejemplo "314-01/03" significa que se le asocian tres elementos EPEP: 314-01, 314-02 y 314-03.
A13: DERECHOS RECONOCIDOS TOTALES | D13: Información contable de SAP-G21: Derechos reconocidos acumulados desde 2020 hasta el momento de elaboración de la tabla (incluyen derechos por reintegro de subvenciones, devoluciones fondos MRR, financiación adicional al MRR,…)
A14: AUTORIZ/COMPROM/OBLIGACIONES | D14: Información contable de SAP-G21: Gasto autorizado (fase A), comprometido (fase D) y obligaciones reconocidas. Datos acumulados desde 2020 hasta el momento de elaboración de la tabla.
A15: Datos a 31/03/2026 - exportados a 14/04/26
B16: Mes anterior: | C16: Mes anterior : | D16: 151 | E16: 151 | F16: 151 | G16: 148 | H16: 6.1968298e+08 | I16: 151 | J16: 151 | K16: 151 | L16: 6.1092048e+08 | M16: 5.6888471e+08 | N16: 5.5789277e+08 | O16: 4.9905857e+08
A17: =SUBTOTAL(3,A20:A936) -> 151 | B17: =SUBTOTAL(3,B20:B936) -> 151 | C17: =SUBTOTAL(3,C20:C936) -> 151 | D17: =SUBTOTAL(3,D20:D936) -> 151 | E17: =SUBTOTAL(3,E20:E936) -> 151 | F17: =SUBTOTAL(3,F20:F936) -> 151 | G17: =COUNTIF(G20:G936,"*pg*") -> 148 | H17: =SUBTOTAL(9,H20:H936) -> 6.1968298e+08 | I17: =SUBTOTAL(3,I20:I936) -> 151 | J17: =SUBTOTAL(3,J20:J936) -> 151 | K17: =SUBTOTAL(3,K20:K936) -> 151 | L17: =SUBTOTAL(9,L20:L936) -> 6.0999333e+08 | M17: =SUBTOTAL(9,M20:M936) -> 6.1563689e+08 | N17: =SUBTOTAL(9,N20:N936) -> 6.0335837e+08 | O17: =SUBTOTAL(9,O20:O936) -> 5.051243e+08
I18: Contabilidad SAP-G21*
A19: Subproyecto del Sistema de Información (CoFFEE) | B19: Denominación CoFFEE | C19: COMPONENTE | D19: ID Actuación de gestión | E19: Denominación actuación de gestión | F19: Departamento de gestión | G19: PLAN DE GESTIÓN | H19: FINANCIACIÓN MRR ASIGNADA 2020-2026 | I19: Nivel de Vinculación con SAP | J19: Nº Proyecto Contable | K19: Elementos PEP | L19: DERECHOS RECONOCIDOS TOTALES | M19: GASTO AUTORIZADO | N19: DISPOSICIONES O COMPROMISOS DE GASTO | O19: OBLIGACIONES RECONOCIDAS
A20: C01.I01.P02.S18 | B20: Ayudas a la Comunidad Foral de Navarra para la ejecución de programas para la transformación digital y sostenible del transporte | C20: C01-Plan de choque de movilidad sostenible, segura y conectada en entornos urbanos y metropolitanos | D20: ID002 | E20: Zonas de bajas emisiones en entornos metropolitanos | F20: Departamento de Cohesión Territorial | G20: PG001 | H20: 12540934 | I20: 1-PC | J20: 464 | K20: - | L20: 12684675 | M20: 14696395 | N20: 14696395 | O20: 14696395
A21: C01.I01.P03.S06 | B21: Ayudas para la transformación de flotas de transporte de viajeros y mercancías de empresas privadas prestadoras de servicios de transporte. Navarra | C21: C01-Plan de choque de movilidad sostenible, segura y conectada en entornos urbanos y metropolitanos | D21: ID001 | E21: Ayudas para la transformación de flotas de transporte de viajeros y mercancías | F21: Departamento de Industria y de Transición Ecológica y Digital Empresarial | G21: PG009 | H21: 7083963.3 | I21: 1-PC | J21: 447 | K21: - | L21: 7083963.3 | M21: 7052790.4 | N21: 6356888.6 | O21: 6356888.6
A22: C01.I02.P03.S17 | B22: MOVES Territorializado Comunidad Foral de Navarra | C22: C01-Plan de choque de movilidad sostenible, segura y conectada en entornos urbanos y metropolitanos | D22: ID003 | E22: Plan MOVES II (2020) | F22: Departamento de Industria y de Transición Ecológica y Digital Empresarial | G22: PG112 | H22: 2215707 | I22: 1-PC | J22: 276 | K22: - | L22: 2215707 | M22: 1469924.1 | N22: 1469924.1 | O22: 1469924.1
A23: C01.I02.P03.S17 | B23: MOVES Territorializado Comunidad Foral de Navarra | C23: C01-Plan de choque de movilidad sostenible, segura y conectada en entornos urbanos y metropolitanos | D23: ID004 | E23: MOVES III Ejecución de programas de inventivos ligados a la movilidad eléctrica | F23: Departamento de Industria y de Transición Ecológica y Digital Empresarial | G23: PG069 | H23: 36636049 | I23: 1-PC | J23: 314 | K23: - | L23: 36077521 | M23: 35610807 | N23: 31128706 | O23: 22703075
A24: C02.I01.P02.S11 | B24: Programas 1-5 de rehabilitación residencial en el marco del PRTR en la Comunidad Foral de Navarra. | C24: C02-Plan de rehabilitación de vivienda y regeneración urbana | D24: ID005 | E24: Programa de rehabilitación para la recuperación económica y social en entornos residenciales (rehabilitación protegida). | F24: Departamento de Vivienda, Juventud y Políticas Migratorias | G24: PG003 | H24: 40986000 | I24: 4-VEP | J24: 433 | K24: 01-03 | L24: 41083898 | M24: 40653672 | N24: 40180108 | O24: 14559359
A25: C02.I02.P02.S18 | B25: Programa 6 de vivienda social, RD 853/2021, en la Comunidad Foral de Navarra. | C25: C02-Plan de rehabilitación de vivienda y regeneración urbana | D25: ID006 | E25: Programa de construcción de viviendas en alquiler social en edificios energéticamente eficientes (arrendamiento protegido). | F25: Departamento de Vivienda, Juventud y Políticas Migratorias | G25: PG003 | H25: 14043813 | I25: 4-VEP | J25: 433 | K25: 02 | L25: 14043813 | M25: 13362664 | N25: 13362664 | O25: 13362664
A26: C02.I03.P01.S13 | B26: Programa de rehabilitación energética de edificios (PREE) Comunidad Foral de Navarra | C26: C02-Plan de rehabilitación de vivienda y regeneración urbana | D26: ID007 | E26: Programa Rehabilitación Energética de edificios (PREE) | F26: Departamento de Vivienda, Juventud y Políticas Migratorias | G26: PG115 | H26: 22125000 | I26: 1-PC | J26: 278 | K26: - | L26: 15229950 | M26: 15045829 | N26: 15045829 | O26: 15045829
A27: C02.I04.P01.S13 | B27: Programa PREE menos de 5.000 hab. Territorializado Comunidad Foral de Navarra | C27: C02-Plan de rehabilitación de vivienda y regeneración urbana | D27: ID008 | E27: Rehabilitación energética para edificios existentes en municipios y núcleos de menos de 5000 habitantes (Programa PREE 5000) | F27: Departamento de Vivienda, Juventud y Políticas Migratorias | G27: PG108 | H27: 8615000 | I27: 1-PC | J27: 382 | K27: - | L27: 8615000 | M27: 8613051.6 | N27: 8582346.4 | O27: 5195997
A28: C02.I05.P01.S15 | B28: PIREP AUTONÓMICO NAVARRA | C28: C02-Plan de rehabilitación de vivienda y regeneración urbana | D28: ID009 | E28: PIREP - Casa Ascunce | F28: Departamento de Cohesión Territorial | G28: PG081 | H28: 445276 | I28: 1-PC | J28: 541 | K28: - | L28: 445276 | M28: 829949.85 | N28: 762705.54 | O28: 47506.4
A29: C02.I05.P01.S15 | B29: PIREP AUTONÓMICO NAVARRA | C29: C02-Plan de rehabilitación de vivienda y regeneración urbana | D29: ID010 | E29: PIREP - Centro de industrialización y robótica de la construcción | F29: Departamento de Universidad, Innovación y Transformación Digital | G29: PG113 | H29: 1625213 | I29: 1-PC | J29: 544 | K29: - | L29: 3625213 | M29: 336213.69 | N29: 336213.69 | O29: 336213.69
A30: C02.I05.P01.S15 | B30: PIREP AUTONÓMICO NAVARRA | C30: C02-Plan de rehabilitación de vivienda y regeneración urbana | D30: ID011 | E30: PIREP - Rehabilitación Palacio Marqués de Rozalejo | F30: Departamento de Memoria y Convivencia, Acción Exterior y Euskera | G30: PG032 | H30: 1517911 | I30: 1-PC | J30: 494 | K30: - | L30: 1517911 | M30: 9199630.5 | N30: 9199630.5 | O30: 9199630.5
A31: C02.I05.P01.S15 | B31: PIREP AUTONÓMICO NAVARRA | C31: C02-Plan de rehabilitación de vivienda y regeneración urbana | D31: ID012 | E31: PIREP - UPNA Green Smart&Sustainable Campus | F31: Departamento de Universidad, Innovación y Transformación Digital | G31: PG033 | H31: 3098000 | I31: 1-PC | J31: 476 | K31: - | L31: 3098000 | M31: 3098000 | N31: 3098000 | O31: 3098000
... A54: C11.I02.P01.S07 | B54: J2030 NAVARRA, COMUNIDAD FORAL | C54: C11-Modernización de las Administraciones públicas | D54: ID028 | E54: Proyecto 0: Infraestructuras para la transformación digital de la justicia | F54: Departamento de Interior, Función Pública y Justicia | G54: PG061 | H54: 1952733.3 | I54: 1-PC | J54: 348 | K54: - | L54: 1952733.3 | M54: 1952733.3 | N54: 1952733.3 | O54: 1952733.3
A55: C11.I02.P01.S07 | B55: J2030 NAVARRA, COMUNIDAD FORAL | C55: C11-Modernización de las Administraciones públicas | D55: ID029 | E55: Proyecto 1A: Interoperabilidad en Justicia | F55: Departamento de Interior, Función Pública y Justicia | G55: PG062 | H55: 5176764.9 | I55: 3-VPC | J55: 451-452 | K55: - | L55: 5176764.9 | M55: 4831385.6 | N55: 4831385.6 | O55: 4831385.6
A56: C11.I02.P01.S07 | B56: J2030 NAVARRA, COMUNIDAD FORAL | C56: C11-Modernización de las Administraciones públicas | D56: ID030 | E56: Proyecto 1B: Optimización de sistemas | F56: Departamento de Interior, Función Pública y Justicia | G56: PG098 | H56: 244556.01 | I56: 1-PC | J56: 580 | K56: - | L56: 244556.01 | M56: 240593.98 | N56: 240593.98 | O56: 240593.98
A57: C11.I02.P01.S07 | B57: J2030 NAVARRA, COMUNIDAD FORAL | C57: C11-Modernización de las Administraciones públicas | D57: ID032 | E57: Proyecto 4. Ciberseguridad | F57: Departamento de Interior, Función Pública y Justicia | G57: PG101 | H57: 18148 | I57: 1-PC | J57: 597 | K57: - | L57: 18148 | M57: 18147.58 | N57: 18147.58 | O57: 18147.58
A58: C11.I02.P01.S07 | B58: J2030 NAVARRA, COMUNIDAD FORAL | C58: C11-Modernización de las Administraciones públicas | D58: ID033 | E58: Proyecto 6. Inmediación digital. | F58: Departamento de Interior, Función Pública y Justicia | G58: PG096 | H58: 92100.61 | I58: 1-PC | J58: 576 | K58: - | L58: 92100.62 | M58: 92100.62 | N58: 92100.62 | O58: 92100.62
A59: C11.I02.P01.S07 | B59: J2030 NAVARRA, COMUNIDAD FORAL | C59: C11-Modernización de las Administraciones públicas | D59: ID035 | E59: Proyecto 8:Medios adecuados de resolución de controversias (MASC) | F59: Departamento de Interior, Función Pública y Justicia | G59: PG070 | H59: 205263.13 | I59: 1-PC | J59: 512 | K59: - | L59: 205263.13 | M59: 205263.13 | N59: 205263.13 | O59: 205263.13
A60: C11.I03.P01.S274 | B60: PRTR MPT CONVOCATORIA 2022 TRANSFORMACIÓN DIGITAL Y MODERNIZACIÓN COMUNIDAD UNIPROVINCIAL DE NAVARRA | C60: C11-Modernización de las Administraciones públicas | D60: ID129 | E60: Transformación digital y modernización de las administraciones de las entidades locales | F60: Departamento de Cohesión Territorial | G60: PG109 | H60: 3077753.8 | I60: 1-PC | J60: 634 | K60: - | L60: 1644725.2 | M60: 3077753.8 | N60: 3077753.8 | O60: 3077753.8
A61: C11.I03.P01.S460 | B61: PRTR MPT CONVOCATORIA 2023 TRANSFORMACIÓN DIGITAL Y MODERNIZACIÓN PADRÓN GOBIERNO DE NAVARRA | C61: C11-Modernización de las Administraciones públicas | D61: ID150 | E61: Modernización de los Sistemas de Gestión del Padrón Municipal de las Entidades Locales en la Comunidad Foral de Navarra | F61: Departamento de Presidencia e Igualdad | G61: PG126 | H61: 824908.33 | I61: 1-PC | J61: 701 | K61: - | L61: 750000 | M61: 824908.33 | N61: 824908.33 | O61: 824908.33
A62: C11.I03.P14.S06 | B62: Transformación digital y Modernización de Navarra. Líneas 1-5 Plan de Transformación digital y sanidad digital Línea 6 | C62: C11-Modernización de las Administraciones públicas | D62: ID037 | E62: Transformación digital y modernización de las AAPP de las CCAA: Evolución hacia una cloud privada sostenible | F62: Departamento de Universidad, Innovación y Transformación Digital | G62: PG071 | H62: 2590300 | I62: 2-EP | J62: 509 | K62: 509-02 | L62: 2590300 | M62: 3134263 | N62: 3134263 | O62: 3134263
...

Sheet 2-SUBPROYECTOS
A1: VOLVER AL INDICE
F2: INSTRUCCIONES DE SELECCIÓN
F3: 1-En esta presentación aparecen todos los subproyectos con fondos MRR de la ACFN con los importes de financiación total prevista (columna H) y
F4: con los importes de autorizaciones, disposiciones y obligaciones entre 2020 y 2026 (columna I,J y K)
F5: 2-En el MENÚ DE LA IZQUIERDA de DEPARTAMENTOS se puede pinchar en el departamento que se quiera FILTRAR.
F6: Una vez seleccionado un departamento se puede ver en el bloque de Denominación actuación de gestión foral en qué actuación participa ese departamento. Para QUITAR EL FILTRO
F7: hay que pinchar el botón de quitar filtros (arriba a la derecha del menú, en el icono de un embudo tachado) | H7: ='1-ACTUACIONES'!A15 -> Datos a 31/03/2026 - exportados a 14/04/26
F8: 3-En el bloque de COMPONENTES se puede hacer el mismo tipo de selección que en Departarmentos. | I8: =IF(I9/$H9>1,1,I9/$H9) -> 0.9934707 | J8: =IF(J9/$H9>1,1,J9/$H9) -> 0.97365651 | K8: =IF(K9/$H9>1,1,K9/$H9) -> 0.8151334
F9: =+SUBTOTAL(3,F11:F505) -> 120 | G9: =+SUBTOTAL(3,G11:G505) -> 120 | H9: =+SUBTOTAL(9,H11:H505) -> 6.1968298e+08 | I9: =SUBTOTAL(9,I11:I206) -> 6.1563689e+08 | J9: =SUBTOTAL(9,J11:J206) -> 6.0335837e+08 | K9: =SUBTOTAL(9,K11:K206) -> 5.051243e+08
F10: Subproyecto del Sistema de Información (CoFFEE) | G10: Denominación CoFFEE | H10: FINANCIACIÓN MRR ASIGNADA 2020-2026 | I10: AUTORIZACIONES 2020 a 2027 | J10: DISPOSICIONES O COMPROMISOS 2020 a 2027 | K10: OBLIGACIONES 2020 a 2026
F11: C01.I01.P02.S18 | G11: Ayudas a la Comunidad Foral de Navarra para la ejecución de programas para la transformación digital y sostenible del transporte | H11: 12540934 | I11: 14696395 | J11: 14696395 | K11: 14696395
F12: C01.I01.P03.S06 | G12: Ayudas para la transformación de flotas de transporte de viajeros y mercancías de empresas privadas prestadoras de servicios de transporte. Navarra | H12: 7083963.3 | I12: 7052790.4 | J12: 6356888.6 | K12: 6356888.6
F13: C01.I02.P03.S17 | G13: MOVES Territorializado Comunidad Foral de Navarra | H13: 38851756 | I13: 37080731 | J13: 32598630 | K13: 24172999
F14: C02.I01.P02.S11 | G14: Programas 1-5 de rehabilitación residencial en el marco del PRTR en la Comunidad Foral de Navarra. | H14: 40986000 | I14: 40653672 | J14: 40180108 | K14: 14559359
F15: C02.I02.P02.S18 | G15: Programa 6 de vivienda social, RD 853/2021, en la Comunidad Foral de Navarra. | H15: 14043813 | I15: 13362664 | J15: 13362664 | K15: 13362664
F16: C02.I03.P01.S13 | G16: Programa de rehabilitación energética de edificios (PREE) Comunidad Foral de Navarra | H16: 22125000 | I16: 15045829 | J16: 15045829 | K16: 15045829
F17: C02.I04.P01.S13 | G17: Programa PREE menos de 5.000 hab. Territorializado Comunidad Foral de Navarra | H17: 8615000 | I17: 8613051.6 | J17: 8582346.4 | K17: 5195997
F18: C02.I05.P01.S15 | G18: PIREP AUTONÓMICO NAVARRA | H18: 6686400 | I18: 13463794 | J18: 13396550 | K18: 12681351
F19: C03.I03.P01.S06 | G19: Inversiones para la mejora de la bioseguridad en explotaciones agrícolas de material vegetal de reproducción y en centros de limpieza y desinfección de medios de transporte de animales vivos (Navarra) | H19: 847698.83 | I19: 553351.84 | J19: 553351.84 | K19: 553351.84
F20: C03.I04.P01.S12 | G20: Programas de apoyo a inversiones en explotaciones agrícolas y ganaderas (Navarra) | H20: 14674312 | I20: 14018400 | J20: 14018400 | K20: 13007650
F21: C04.I02.P01.S12 | G21: Conservación de la biodiversidad - NAV | H21: 2497597 | I21: 2660496.6 | J21: 2210077.5 | K21: 1567636.3
F22: C04.I02.P01.S16.S03 | G22: Conservación de la Biodiversidad - OAPN - NAV | H22: 861956 | I22: 861956 | J22: 710408.35 | K22: 710408.35
... F130: C20.I03.P01.S02 | G130: Proyectos de innovación centros FP-empresas de la comunidad autónoma de la Comunidad Foral de Navarra | H130: 539171.51 | I130: 0 | J130: 0 | K130: 0

Sheet 3-Códigos BDNS
A2: VOLVER AL INDICE
E3: Total mes anterior: | F3: 172
E4: ='1-ACTUACIONES'!A15 -> Datos a 31/03/2026 - exportados a 14/04/26 | F4: =+SUBTOTAL(3,F6:F2000) -> 174
A5: Subproyecto del Sistema de Información (CoFFEE) | B5: Denominación CoFFEE | C5: ID Actuación | D5: Denominación gestión | E5: Departamento de gestión | F5: Códigos asociados en la BDNS (Base de Datos Nacional de Subvenciones) | G5: Enlace a ficha BDNS | H5: Descripción BDNS
A6: C01.I01.P02.S18 | B6: Ayudas a la Comunidad Foral de Navarra para la ejecución de programas para la transformación digital y sostenible del transporte | C6: ID002 | D6: Zonas de bajas emisiones en entornos metropolitanos | E6: Departamento de Cohesión Territorial | F6: 634164 | G6: https://www.pap.hacienda.gob.es/bdnstrans/GE/es/convocatorias/634164 | H6: EJECUCIÓN CARRIL BICI CALLE MILUZE PAMPLONA, PRTR-MRR
A7: C01.I01.P02.S18 | B7: Ayudas a la Comunidad Foral de Navarra para la ejecución de programas para la transformación digital y sostenible del transporte | C7: ID002 | D7: Zonas de bajas emisiones en entornos metropolitanos | E7: Departamento de Cohesión Territorial | F7: 664624 | G7: https://www.pap.hacienda.gob.es/bdnstrans/GE/es/convocatorias/664624 | H7: EJECUCIÓN CARRIL BICI CALLE TAJONAR PAMPLONA, PRTR-MRR
A8: C01.I01.P02.S18 | B8: Ayudas a la Comunidad Foral de Navarra para la ejecución de programas para la transformación digital y sostenible del transporte | C8: ID002 | D8: Zonas de bajas emisiones en entornos metropolitanos | E8: Departamento de Cohesión Territorial | F8: 683794 | G8: https://www.pap.hacienda.gob.es/bdnstrans/GE/es/convocatorias/683794 | H8: Ejecución Proyecto "Itinerario peatonal y ciclista de conexión entre Pamplona y Burlada por la Cuesta de Beloso" financiado por Fondos de la Unión Europea-Next Generation EU en el marco del PRTR
A9: C01.I01.P03.S06 | B9: Ayudas para la transformación de flotas de transporte de viajeros y mercancías de empresas privadas prestadoras de servicios de transporte. Navarra | C9: ID001 | D9: Ayudas para la transformación de flotas de transporte de viajeros y mercancías | E9: Departamento de Industria y de Transición Ecológica y Digital Empresarial | F9: 631204 | G9: https://www.pap.hacienda.gob.es/bdnstrans/GE/es/convocatorias/631204 | H9: Ayuda para la transformación de flotas de transporte de viajeros y mercancías de empresas. Adquisición de vehículos
A10: C01.I01.P03.S06 | B10: Ayudas para la transformación de flotas de transporte de viajeros y mercancías de empresas privadas prestadoras de servicios de transporte. Navarra | C10: ID001 | D10: Ayudas para la transformación de flotas de transporte de viajeros y mercancías | E10: Departamento de Industria y de Transición Ecológica y Digital Empresarial | F10: 631209 | G10: https://www.pap.hacienda.gob.es/bdnstrans/GE/es/convocatorias/631209 | H10: Ayuda para la transformación de flotas de transporte de viajeros y mercancías de empresas. Retrofit
A11: C01.I01.P03.S06 | B11: Ayudas para la transformación de flotas de transporte de viajeros y mercancías de empresas privadas prestadoras de servicios de transporte. Navarra | C11: ID001 | D11: Ayudas para la transformación de flotas de transporte de viajeros y mercancías | E11: Departamento de Industria y de Transición Ecológica y Digital Empresarial | F11: 631262 | G11: https://www.pap.hacienda.gob.es/bdnstrans/GE/es/convocatorias/631262 | H11: Ayuda para la transformación de flotas de transporte de viajeros y mercancías de empresas. Infraestructura de recarga
A12: C01.I01.P03.S06 | B12: Ayudas para la transformación de flotas de transporte de viajeros y mercancías de empresas privadas prestadoras de servicios de transporte. Navarra | C12: ID001 | D12: Ayudas para la transformación de flotas de transporte de viajeros y mercancías | E12: Departamento de Industria y de Transición Ecológica y Digital Empresarial | F12: 631267 | G12: https://www.pap.hacienda.gob.es/bdnstrans/GE/es/convocatorias/631267 | H12: Ayuda para la transformación de flotas de transporte de viajeros y mercancías de empresas. Adquisición semirremolques ferroviarios
A13: C01.I01.P03.S06 | B13: Ayudas para la transformación de flotas de transporte de viajeros y mercancías de empresas privadas prestadoras de servicios de transporte. Navarra | C13: ID001 | D13: Ayudas para la transformación de flotas de transporte de viajeros y mercancías | E13: Departamento de Industria y de Transición Ecológica y Digital Empresarial | F13: 631277 | G13: https://www.pap.hacienda.gob.es/bdnstrans/GE/es/convocatorias/631277 | H13: Ayuda para la transformación de flotas de transporte de viajeros y mercancías de empresas. Achatarramiento (Minimis)
A14: C01.I01.P03.S06 | B14: Ayudas para la transformación de flotas de transporte de viajeros y mercancías de empresas privadas prestadoras de servicios de transporte. Navarra | C14: ID001 | D14: Ayudas para la transformación de flotas de transporte de viajeros y mercancías | E14: Departamento de Industria y de Transición Ecológica y Digital Empresarial | F14: 827336 | G14: https://www.pap.hacienda.gob.es/bdnstrans/GE/es/convocatorias/827336 | H14: Ayuda para la transformación de flotas de transporte de viajeros y mercancías de empresas. Adquisición de vehículos
A15: C01.I02.P03.S17 | B15: MOVES Territorializado Comunidad Foral de Navarra | C15: ID003 | D15: Plan MOVES II (2020) | E15: Departamento de Industria y de Transición Ecológica y Digital Empresarial | F15: 523367 | G15: https://www.pap.hacienda.gob.es/bdnstrans/GE/es/convocatorias/523367 | H15: Programa de incentivos a la movilidad eficiente y sostenible (MOVES II) 2020
A16: C01.I02.P03.S17 | B16: MOVES Territorializado Comunidad Foral de Navarra | C16: ID004 | D16: MOVES III Ejecución de programas de inventivos ligados a la movilidad eléctrica | E16: Departamento de Industria y de Transición Ecológica y Digital Empresarial | F16: 574654 | G16: https://www.pap.hacienda.gob.es/bdnstrans/GE/es/convocatorias/574654 | H16: Programa de incentivos ligados a la movilidad eléctrica (Programa MOVES III)
A17: C01.I02.P03.S17 | B17: MOVES Territorializado Comunidad Foral de Navarra | C17: ID004 | D17: MOVES III Ejecución de programas de inventivos ligados a la movilidad eléctrica | E17: Departamento de Industria y de Transición Ecológica y Digital Empresarial | F17: 597225 | G17: https://www.pap.hacienda.gob.es/bdnstrans/GE/es/convocatorias/597225 | H17: Programa de incentivos ligados a la movilidad eléctrica (Programa MOVES III)
... A179: C31.I01.P01.S06 | B179: Apoyo al autoconsumo y almacenamiento detrás del contador en la adenda en la COMUNIDAD FORAL DE NAVARRA | C179: ID138 | D179: Autoconsumo Almacenamiento REpowerUE | E179: Departamento de Industria y de Transición Ecológica y Digital Empresarial | F179: 607046 | G179: https://www.pap.hacienda.gob.es/bdnstrans/GE/es/convocatorias/607046 | H179: Ayudas al autoconsumo y al almacenamiento con fuentes de energía renovable. Programa 4. No sujetas a reglamentos de minimis ni al régimen de ayudas de estado

Sheet 4-Códigos Contratos
A2: VOLVER AL INDICE
A3: Los encargos y contratos menores no tienen un ID de Contrato asociado. Figuran en distintos apartados dentro del Portal de Contratación. Pueden consultarse en los siguientes links:
A4: 1. Contratos menores: (hay que incluir departamento a consultar y año) | E4: https://hacienda.navarra.es/sicpportal/mtoBuscadorFacturasTrimestrales.aspx
A5: 2. Encargos: | E5: https://hacienda.navarra.es/sicpportal/mtoBuscadorEncomiendas.aspx
E7: Total mes anterior: | F7: 228
E8: ='1-ACTUACIONES'!A15 -> Datos a 31/03/2026 - exportados a 14/04/26 | F8: =+SUBTOTAL(3,F10:F2003) -> 237
A9: Subproyecto del Sistema de Información (CoFFEE) | B9: Denominación CoFFEE | C9: ID Actuación | D9: Denominación gestión | E9: Departamento de gestión | F9: Códigos asociados en el Portal de Contratación de Navarra | G9: Enlace a ficha de contrato (PCN) | H9: Título Expte de Contratación
A10: C01.I01.P02.S18 | B10: Ayudas a la Comunidad Foral de Navarra para la ejecución de programas para la transformación digital y sostenible del transporte | C10: ID002 | D10: Zonas de bajas emisiones en entornos metropolitanos | E10: Departamento de Cohesión Territorial | F10: 21081111381341E97250X8388L000 | G10: https://hacienda.navarra.es/registrocontratosweb/ctafichaRegistroDeContratos.aspx?Ent=8388&Cod=21110210373115549928&RcAs=-1 | H10: Pasarela peatonal sobre la carretera NA 150 en Itaroa (Huarte)
A11: C01.I01.P02.S18 | B11: Ayudas a la Comunidad Foral de Navarra para la ejecución de programas para la transformación digital y sostenible del transporte | C11: ID002 | D11: Zonas de bajas emisiones en entornos metropolitanos | E11: Departamento de Cohesión Territorial | F11: 230216102619B44C1B5CX8388L000 | G11: https://hacienda.navarra.es/registrocontratosweb/ctafichaRegistroDeContratos.aspx?Ent=8388&Cod=230810101416ECB9CAB8&RcAs=-1 | H11: Construcción de las obras de urbanización del intercambiador de autobús interurbano en Oronoz Mugairi, en Navarra
A12: C01.I01.P02.S18 | B12: Ayudas a la Comunidad Foral de Navarra para la ejecución de programas para la transformación digital y sostenible del transporte | C12: ID002 | D12: Zonas de bajas emisiones en entornos metropolitanos | E12: Departamento de Cohesión Territorial | F12: 2303160905420A4B59EBX8388L000 | G12: https://hacienda.navarra.es/registrocontratosweb/ctafichaRegistroDeContratos.aspx?Ent=8388&Cod=240110145048E1F3FD42&RcAs=-1 | H12: Proyecto de pasarela peatonal sobre la carretera PA 30 en Arre (Ezcabarte)
A13: C01.I01.P02.S18 | B13: Ayudas a la Comunidad Foral de Navarra para la ejecución de programas para la transformación digital y sostenible del transporte | C13: ID002 | D13: Zonas de bajas emisiones en entornos metropolitanos | E13: Departamento de Cohesión Territorial | F13: 2305051307007C028F13X8388L000 | G13: https://hacienda.navarra.es/registrocontratosweb/ctafichaRegistroDeContratos.aspx?Ent=8388&Cod=231214102114C13D5FD2&RcAs=-1 | H13: Intersección NA30 en el Polígono Industrial Landaben (Navarra)
A14: C01.I01.P02.S18 | B14: Ayudas a la Comunidad Foral de Navarra para la ejecución de programas para la transformación digital y sostenible del transporte | C14: ID002 | D14: Zonas de bajas emisiones en entornos metropolitanos | E14: Departamento de Cohesión Territorial | F14: 2310240925339B4E4317X8388L000 | G14: https://hacienda.navarra.es/registrocontratosweb/ctafichaRegistroDeContratos.aspx?Ent=8388&Cod=240125092936428AB20B&RcAs=-1 | H14: Urbanización del intercambiador de autobús interurbano en Lumbier, Navarra
A15: C01.I01.P02.S18 | B15: Ayudas a la Comunidad Foral de Navarra para la ejecución de programas para la transformación digital y sostenible del transporte | C15: ID002 | D15: Zonas de bajas emisiones en entornos metropolitanos | E15: Departamento de Cohesión Territorial | F15: 2310311300419129D52DX8388L000 | G15: https://hacienda.navarra.es/registrocontratosweb/ctafichaRegistroDeContratos.aspx?Ent=8388&Cod=2401250959541B024E1D&RcAs=-1 | H15: Itinerario peatonal y ciclista de conexión entre Zizur Mayor y Pamplona
A16: C01.I01.P02.S18 | B16: Ayudas a la Comunidad Foral de Navarra para la ejecución de programas para la transformación digital y sostenible del transporte | C16: ID002 | D16: Zonas de bajas emisiones en entornos metropolitanos | E16: Departamento de Cohesión Territorial | F16: 231222115123721C0756X8388L000 | G16: https://hacienda.navarra.es/registrocontratosweb/ctafichaRegistroDeContratos.aspx?Ent=8388&Cod=2405201400404A819EA9&RcAs=-1 | H16: Itinerario peatonal y ciclista de conexión entre Sarriguren-Ciudad de la Innovación-Ripagaina-Areta-Burlada
A17: C01.I01.P02.S18 | B17: Ayudas a la Comunidad Foral de Navarra para la ejecución de programas para la transformación digital y sostenible del transporte | C17: ID002 | D17: Zonas de bajas emisiones en entornos metropolitanos | E17: Departamento de Cohesión Territorial | F17: 2406211051440CF45EE2X8388L000 | G17: https://hacienda.navarra.es/registrocontratosweb/ctafichaRegistroDeContratos.aspx?Ent=8388&Cod=250115092756559A90A2&RcAs=-1 | H17: Itinerario peatonal y ciclista de conexión por la ruta del Camino de Santiago entre Pamplona y Cizur Menor. Tramos 2 a 6
A18: C01.I02.P03.S17 | B18: MOVES Territorializado Comunidad Foral de Navarra | C18: ID004 | D18: MOVES III Ejecución de programas de inventivos ligados a la movilidad eléctrica | E18: Departamento de Industria y de Transición Ecológica y Digital Empresarial | F18: 24110413595203F003E1X8213L000 | G18: https://hacienda.navarra.es/registrocontratosweb/ctafichaRegistroDeContratos.aspx?Ent=8213&Cod=250507104300C3356A33&RcAs=-1 | H18: P2024-41 Contrato de Obra de una Instalación de 6 puntos de recarga para vehículo eléctrico en Hospital Universitario de Navarra, en Pamplona / Iruña (Navarra) mediante procedimiento simplificado y financiado con fondos de la Unión Europea-NextGenera
A19: C01.I02.P03.S17 | B19: MOVES Territorializado Comunidad Foral de Navarra | C19: ID004 | D19: MOVES III Ejecución de programas de inventivos ligados a la movilidad eléctrica | E19: Departamento de Industria y de Transición Ecológica y Digital Empresarial | F19: 241104140757069C1068X8213L000 | G19: https://hacienda.navarra.es/registrocontratosweb/ctafichaRegistroDeContratos.aspx?Ent=8213&Cod=250528133233FDF1470B&RcAs=-1 | H19: P2024-43 Contrato de Obra de una Instalación de 5 puntos de recarga para vehículo eléctrico en el Hospital García Orcoyen en Estella-Lizarra (Navarra) mediante procedimiento simplificado y financiado con fondos de la Unión Europea-NextGenerationEU
A20: C02.I05.P01.S15 | B20: PIREP AUTONÓMICO NAVARRA | C20: ID011 | D20: PIREP - Rehabilitación Palacio Marqués de Rozalejo | E20: Departamento de Memoria y Convivencia, Acción Exterior y Euskera | F20: 19053111401001EF9F79X1001L000 | G20: https://hacienda.navarra.es/registrocontratosweb/ctafichaRegistroDeContratos.aspx?Ent=1001&Cod=19111313365112210733&RcAs=-1 | H20: Redacción de proyecto y dirección de las obras de rehabilitación del Palacio del Marqués de Rozalejo
... A246: C31.I01.P01.S06 | B246: Apoyo al autoconsumo y almacenamiento detrás del contador en la adenda en la COMUNIDAD FORAL DE NAVARRA | C246: ID137 | D246: Autoconsumo Generación REpowerUE | E246: Departamento de Industria y de Transición Ecológica y Digital Empresarial | F246: 240628083126B628A077X8213L000 | G246: https://hacienda.navarra.es/registrocontratosweb/ctafichaRegistroDeContratos.aspx?Ent=8213&Cod=24110514583835F38FBE&RcAs=-1 | H246: P2024-10 Contratación de la Obra de una Instalación Fotovoltaica para Autoconsumo Compartido en nueva cubierta de la Piscifactoría de Oronoz-Mugaire, mediante procedimiento simplificado y financiado con fondos de la Unión Europea-NextGenerationEU

Sheet 5-TOTALES INGR Y GASTOS
A1: VOLVER AL INDICE
D3: Datos extraídos de SAP hasta hasta 31/03/2026 - exportados a 14/04/2026
A5: =SUBTOTAL(3,A9:A1000) -> 257 | B5: =SUBTOTAL(3,B9:B1000) -> 257 | C5: =SUBTOTAL(3,C9:C1000) -> 257 | D5: =SUBTOTAL(3,D9:D1000) -> 257 | F5: =SUBTOTAL(3,F9:F1000) -> 257 | G5: =SUBTOTAL(3,G9:G1000) -> 257 | H5: =SUBTOTAL(9,H9:H1000) -> 5509718 | I5: =SUBTOTAL(9,I9:I1000) -> 1.745175e+08 | J5: =SUBTOTAL(9,J9:J1000) -> 1.9199359e+08 | K5: =SUBTOTAL(9,K9:K1000) -> 1.654156e+08 | L5: =SUBTOTAL(9,L9:L1000) -> 75924268 | M5: =SUBTOTAL(9,M9:M1000) -> -2738909.8 | N5: =SUBTOTAL(9,N9:N1000) -> -14491661 | O5: =SUBTOTAL(9,O9:O1000) -> -628437.33 | ... Z5: =SUBTOTAL(9,Z9:Z1000) -> 1.0534971e+08 | AA5: =SUBTOTAL(9,AA9:AA475) -> 7115633.3 | AB5: =SUBTOTAL(9,AB9:AB1000) -> 13574 | AC5: =SUBTOTAL(9,AC9:AC1000) -> 0 | AD5: =SUBTOTAL(9,AD9:AD1000) -> 0 | AE5: =SUBTOTAL(9,AE9:AE1000) -> 6.1647578e+08
H7: INGRESOS | I7: INGRESOS | J7: INGRESOS | K7: INGRESOS | L7: INGRESOS | M7: INGRESOS | N7: INGRESOS | O7: INGRESOS | P7: INGRESOS | Q7: INGRESOS | R7: GASTOS | S7: GASTOS | T7: GASTOS | U7: GASTOS | V7: GASTOS | W7: GASTOS | X7: GASTOS | Y7: GASTOS | Z7: GASTOS | AA7: =+'[3]RESUMEN PC'!Y6 -> GASTOS | AB7: GASTOS | AC7: GASTOS | AD7: GASTOS | AE7: GASTOS
A8: Subproyecto del Sistema de Información (CoFFEE) | B8: Denominación CoFFEE | C8: ID Actuación | D8: Nombre Subproyecto / Actuación | E8: Departamento | F8: PC / EPEP | G8: Nombre EPEP | H8: Derechos 2020 | I8: Derechos 2021 | J8: Derechos 2022 | K8: Derechos 2023 | L8: Derechos 2024 | M8: Derechos 2025 | N8: Presupuesto definitivo 2026 | O8: Derechos 2026 | P8: Presupuesto definitivo 2027 y post | Q8: Total Presupuesto definitivo | R8: Obligaciones 2020 | S8: Obligaciones 2021 | T8: Obligaciones 2022 | U8: Obligaciones 2023 | V8: Obligaciones 2024 | W8: Obligaciones 2025 | X8: Presupuesto definitivo 2026 | Y8: Autorizaciones 2026 | Z8: Disposiciones 2026 | AA8: Obligaciones 2026 | AB8: Presupuesto definitivo 2027 y post | AC8: Autorizaciones 2027 y post | AD8: Disposiciones 2027 y post | AE8: Total Presupuesto definitivo
A9: C01.I01.P02.S18 | B9: Ayudas a la Comunidad Foral de Navarra para la ejecución de programas para la transformación digital y sostenible del transporte | C9: ID002 | D9: Zonas de bajas emisiones en entornos metropolitanos | E9: 2 | F9: 0464-01 | G9: MRR Movilidad sostenible | H9: 0 | I9: 12540934 | J9: -5835293.6 | K9: -6705640.4 | L9: 0 | M9: 0 | N9: 0 | O9: 0 | P9: 0 | Q9: 0 | R9: 0 | S9: 0 | T9: 0 | U9: 0 | V9: 0 | W9: 0 | X9: 0 | Y9: 0 | Z9: 0 | AA9: 0 | AB9: 0 | AC9: 0 | AD9: 0 | AE9: 0
A10: C01.I01.P02.S18 | B10: Ayudas a la Comunidad Foral de Navarra para la ejecución de programas para la transformación digital y sostenible del transporte | C10: ID002 | D10: Zonas de bajas emisiones en entornos metropolitanos | E10: 2 | F10: 0464-03 | G10: PROYECTOS Y ASISTENCIA CONVENIOS EELL | H10: 0 | I10: 0 | J10: 494409.41 | K10: -367274.3 | L10: -30623.46 | M10: -3961.7 | N10: 0 | O10: 0 | P10: 0 | Q10: 92549.95 | R10: 0 | S10: 0 | T10: 69661.12 | U10: 47117.98 | V10: 0 | W10: 0 | X10: 0 | Y10: 0 | Z10: 0 | AA10: 0 | AB10: 0 | AC10: 0 | AD10: 0 | AE10: 116779.1
A11: C01.I01.P02.S18 | B11: Ayudas a la Comunidad Foral de Navarra para la ejecución de programas para la transformación digital y sostenible del transporte | C11: ID002 | D11: Zonas de bajas emisiones en entornos metropolitanos | E11: 2 | F11: 0464-04 | G11: 150501 PASARELA ITAROA | H11: 0 | I11: 0 | J11: 546750.84 | K11: 36558.9 | L11: 0 | M11: -23944.27 | N11: 0 | O11: 0 | P11: 0 | Q11: 559365.47 | R11: 0 | S11: 0 | T11: 661568.52 | U11: 44236.26 | V11: 0 | W11: 0 | X11: 0 | Y11: 0 | Z11: 0 | AA11: 0 | AB11: 0 | AC11: 0 | AD11: 0 | AE11: 705804.78
A12: C01.I01.P02.S18 | B12: Ayudas a la Comunidad Foral de Navarra para la ejecución de programas para la transformación digital y sostenible del transporte | C12: ID002 | D12: Zonas de bajas emisiones en entornos metropolitanos | E12: 2 | F12: 0464-05 | G12: 150201 CARRIL BICI CALLE MILUCE PAMPLONA | H12: 0 | I12: 0 | J12: 833234.74 | K12: 0 | L12: 0 | M12: -34203.43 | N12: 0 | O12: 0 | P12: 0 | Q12: 799031.31 | R12: 0 | S12: 0 | T12: 833234.74 | U12: 0 | V12: 0 | W12: 0 | X12: 0 | Y12: 0 | Z12: 0 | AA12: 0 | AB12: 0 | AC12: 0 | AD12: 0 | AE12: 833234.74
A13: C01.I01.P02.S18 | B13: Ayudas a la Comunidad Foral de Navarra para la ejecución de programas para la transformación digital y sostenible del transporte | C13: ID002 | D13: Zonas de bajas emisiones en entornos metropolitanos | E13: 2 | F13: 0464-06 | G13: INTERCAMBIADOR AUTOBUSES MUGAIRI | H13: 0 | I13: 0 | J13: 789198.56 | K13: -39308.57 | L13: -162268.87 | M13: -24121.24 | N13: 0 | O13: 0 | P13: 0 | Q13: 563499.88 | R13: 0 | S13: 0 | T13: 3472.7 | U13: 529482.73 | V13: 178066.12 | W13: 0 | X13: 0 | Y13: 0 | Z13: 0 | AA13: 0 | AB13: 0 | AC13: 0 | AD13: 0 | AE13: 711021.55
A14: C01.I01.P02.S18 | B14: Ayudas a la Comunidad Foral de Navarra para la ejecución de programas para la transformación digital y sostenible del transporte | C14: ID002 | D14: Zonas de bajas emisiones en entornos metropolitanos | E14: 2 | F14: 0464-07 | G14: PASARELA PEATONAL Y CICLABLE EN ARRE | H14: 0 | I14: 0 | J14: 1333929.4 | K14: -80016.46 | L14: -207286.66 | M14: -42962.93 | N14: 0 | O14: 0 | P14: 0 | Q14: 1003663.4 | R14: 0 | S14: 0 | T14: 17908 | U14: 0 | V14: 1248509.8 | W14: 0 | X14: 0 | Y14: 0 | Z14: 0 | AA14: 0 | AB14: 0 | AC14: 0 | AD14: 0 | AE14: 1266417.8
A15: C01.I01.P02.S18 | B15: Ayudas a la Comunidad Foral de Navarra para la ejecución de programas para la transformación digital y sostenible del transporte | C15: ID002 | D15: Zonas de bajas emisiones en entornos metropolitanos | E15: 2 | F15: 0464-08 | G15: INTERCAMBIADOR AUTOBUSES LUMBIER | H15: 0 | I15: 0 | J15: 916699.47 | K15: -59342.49 | L15: -185489.97 | M15: -27579.45 | N15: 0 | O15: 0 | P15: 0 | Q15: 644287.56 | R15: 0 | S15: 0 | T15: 17968.5 | U15: 0 | V15: 794990.58 | W15: 0 | X15: 0 | Y15: 0 | Z15: 0 | AA15: 0 | AB15: 0 | AC15: 0 | AD15: 0 | AE15: 812959.08
A16: C01.I01.P02.S18 | B16: Ayudas a la Comunidad Foral de Navarra para la ejecución de programas para la transformación digital y sostenible del transporte | C16: ID002 | D16: Zonas de bajas emisiones en entornos metropolitanos | E16: 2 | F16: 0464-09 | G16: CARRIL BICI COLEGIO AMIGO C/TAJONAR | H16: 0 | I16: 0 | J16: 777479.46 | K16: 0 | L16: 0 | M16: -31914.73 | N16: 0 | O16: 0 | P16: 0 | Q16: 745564.73 | R16: 0 | S16: 0 | T16: 777479.46 | U16: 0 | V16: 0 | W16: 0 | X16: 0 | Y16: 0 | Z16: 0 | AA16: 0 | AB16: 0 | AC16: 0 | AD16: 0 | AE16: 777479.46
A17: C01.I01.P02.S18 | B17: Ayudas a la Comunidad Foral de Navarra para la ejecución de programas para la transformación digital y sostenible del transporte | C17: ID002 | D17: Zonas de bajas emisiones en entornos metropolitanos | E17: 2 | F17: 0464-10 | G17: EXPROPIACIONES | H17: 0 | I17: 0 | J17: 119091.66 | K17: 786898.79 | L17: -558079.91 | M17: -195985.02 | N17: 0 | O17: 0 | P17: 0 | Q17: 151925.52 | R17: 0 | S17: 0 | T17: 119091.66 | U17: 5658.5 | V17: 28027.55 | W17: 5651.15 | X17: 0 | Y17: 0 | Z17: 0 | AA17: 0 | AB17: 0 | AC17: 0 | AD17: 0 | AE17: 158428.86
A18: C01.I01.P02.S18 | B18: Ayudas a la Comunidad Foral de Navarra para la ejecución de programas para la transformación digital y sostenible del transporte | C18: ID002 | D18: Zonas de bajas emisiones en entornos metropolitanos | E18: 2 | F18: 0464-11 | G18: LANDABEN NA-30 | H18: 0 | I18: 0 | J18: 9500 | K18: 155012.55 | L18: -14478.38 | M18: -6158.75 | N18: 0 | O18: 0 | P18: 0 | Q18: 143875.42 | R18: 0 | S18: 0 | T18: 11495 | U18: 0 | V18: 170046.35 | W18: 0 | X18: 0 | Y18: 0 | Z18: 0 | AA18: 0 | AB18: 0 | AC18: 0 | AD18: 0 | AE18: 181541.35
A19: C01.I01.P02.S18 | B19: Ayudas a la Comunidad Foral de Navarra para la ejecución de programas para la transformación digital y sostenible del transporte | C19: ID002 | D19: Zonas de bajas emisiones en entornos metropolitanos | E19: 2 | F19: 0464-12 | G19: ZIZUR MAYOR - AV. AROSTEGUI PAMPLONA | H19: 0 | I19: 0 | J19: 15000 | K19: 873854.68 | L19: -26196.7 | M19: -35411.22 | N19: 0 | O19: 0 | P19: 0 | Q19: 827246.76 | R19: 0 | S19: 0 | T19: 18150 | U19: 25194.17 | V19: 1000472 | W19: 0 | X19: 0 | Y19: 0 | Z19: 0 | AA19: 0 | AB19: 0 | AC19: 0 | AD19: 0 | AE19: 1043816.2
A20: C01.I01.P02.S18 | B20: Ayudas a la Comunidad Foral de Navarra para la ejecución de programas para la transformación digital y sostenible del transporte | C20: ID002 | D20: Zonas de bajas emisiones en entornos metropolitanos | E20: 2 | F20: 0464-13 | G20: CAMINO SANTIAGO - CIZUR MENOR - PAMPLONA | H20: 0 | I20: 0 | J20: 0 | K20: 0 | L20: 24803.87 | M20: 1098654.4 | N20: 0 | O20: 0 | P20: 0 | Q20: 1123458.3 | R20: 0 | S20: 0 | T20: 0 | U20: 52612.94 | V20: 0 | W20: 1364961.6 | X20: 0 | Y20: 0 | Z20: 0 | AA20: 0 | AB20: 0 | AC20: 0 | AD20: 0 | AE20: 1417574.6
... A39: C02.I04.P01.S13 | B39: Programa PREE menos de 5.000 hab. Territorializado Comunidad Foral de Navarra | C39: ID008 | D39: Rehabilitación energética para edificios existentes en municipios y núcleos de menos de 5000 habitantes (Programa PREE 5000) | E39: 3 | F39: 0382-02 | G39: MRR-Subvenciones programa PREE 5000 Per | H39: 0 | I39: 0 | J39: 0 | K39: 0 | L39: 0 | M39: 0 | N39: 0 | O39: 0 | P39: 0 | Q39: 0 | R39: 0 | S39: 0 | T39: 0 | U39: 67473.28 | V39: 0 | W39: 0 | X39: 0 | Y39: 0 | Z39: 0 | AA39: 0 | AB39: 0 | AC39: 0 | AD39: 0 | AE39: 67473.28
A40: C02.I05.P01.S15 | B40: PIREP AUTONÓMICO NAVARRA | C40: ID012 | D40: PIREP - UPNA Green Smart&Sustainable Campus | E40: G | F40: 0476-01 | G40: GU UPNA CAMPUS SOSTENIBLE PIREP | H40: 0 | I40: 0 | J40: 3098000 | K40: 0 | L40: 0 | M40: 0 | N40: 0.03 | O40: 0 | P40: 0 | Q40: 3098000 | R40: 0 | S40: 0 | T40: 3098000 | U40: 0 | V40: 0 | W40: 0 | X40: 0 | Y40: 0 | Z40: 0 | AA40: 0 | AB40: 0 | AC40: 0 | AD40: 0 | AE40: 3098000
A41: C02.I05.P01.S15 | B41: PIREP AUTONÓMICO NAVARRA | C41: ID011 | D41: PIREP - Rehabilitación Palacio Marqués de Rozalejo | E41: B | F41: 0494-01 | G41: Actuaciones tipo A.Eficiencia Energética | H41: 0 | I41: 0 | J41: 1065201 | K41: 0 | L41: 0 | M41: 0 | N41: 0 | O41: 0 | P41: 0 | Q41: 1065201 | R41: 0 | S41: 0 | T41: 0 | U41: 8217.79 | V41: 330407.91 | W41: 924218.62 | X41: 210894.2 | Y41: 210894.2 | Z41: 210894.2 | AA41: 210894.2 | AB41: 0 | AC41: 0 | AD41: 0 | AE41: 1473738.5
A42: C02.I05.P01.S15 | B42: PIREP AUTONÓMICO NAVARRA | C42: ID011 | D42: PIREP - Rehabilitación Palacio Marqués de Rozalejo | E42: B | F42: 0494-02 | G42: Actuaciones tipo C.Accesibilidad | H42: 0 | I42: 0 | J42: 5749.42 | K42: 0 | L42: 0 | M42: 0 | N42: 0 | O42: 0 | P42: 0 | Q42: 5749.42 | R42: 0 | S42: 0 | T42: 0 | U42: 0 | V42: 0 | W42: 87057.85 | X42: 4634.67 | Y42: 4634.67 | Z42: 4634.67 | AA42: 4634.67 | AB42: 0 | AC42: 0 | AD42: 0 | AE42: 91692.52
A43: C02.I05.P01.S15 | B43: PIREP AUTONÓMICO NAVARRA | C43: ID011 | D43: PIREP - Rehabilitación Palacio Marqués de Rozalejo | E43: B | F43: 0494-03 | G43: Actuaciones tipo E. Conservación | H43: 0 | I43: 0 | J43: 446960.58 | K43: 0 | L43: 0 | M43: 0 | N43: 0 | O43: 0 | P43: 0 | Q43: 446960.58 | R43: 0 | S43: 0 | T43: 69735.42 | U43: 1881884.7 | V43: 1788333.6 | W43: 3328555.3 | X43: 494839.6 | Y43: 494839.6 | Z43: 494839.6 | AA43: 494839.6 | AB43: 0 | AC43: 0 | AD43: 0 | AE43: 7563348.6
A44: C02.I05.P01.S15 | B44: PIREP AUTONÓMICO NAVARRA | C44: ID011 | D44: PIREP - Rehabilitación Palacio Marqués de Rozalejo | E44: B | F44: 0494-04 | G44: Actuaciones no financiadas | H44: 0 | I44: 0 | J44: 0 | K44: 0 | L44: 0 | M44: 0 | N44: 0 | O44: 0 | P44: 0 | Q44: 0 | R44: 0 | S44: 0 | T44: 2265.86 | U44: 40194.14 | V44: 0 | W44: 0 | X44: 28390.85 | Y44: 28390.85 | Z44: 28390.85 | AA44: 28390.85 | AB44: 0 | AC44: 0 | AD44: 0 | AE44: 70850.85
A45: C02.I05.P01.S15 | B45: PIREP AUTONÓMICO NAVARRA | C45: ID009 | D45: PIREP - Casa Ascunce | E45: 2 | F45: 0541-01 | G45: MRR-PIREP Casa Ascunce | H45: 0 | I45: 0 | J45: 445276 | K45: 0 | L45: 0 | M45: 0 | N45: 0 | O45: 0 | P45: 0 | Q45: 445276 | R45: 0 | S45: 0 | T45: 0 | U45: 0 | V45: 47506.4 | W45: 0 | X45: 782443.46 | Y45: 782443.45 | Z45: 715199.14 | AA45: 0 | AB45: 0 | AC45: 0 | AD45: 0 | AE45: 829949.86
A46: C02.I05.P01.S15 | B46: PIREP AUTONÓMICO NAVARRA | C46: ID010 | D46: PIREP - Centro de industrialización y robótica de la construcción | E46: G | F46: 0544-01 | G46: MRR-PIREP Centro Nacional Industr y Rob | H46: 0 | I46: 0 | J46: 1625213 | K46: 2000000 | L46: -2000000 | M46: 0 | N46: 0 | O46: 0 | P46: 0 | Q46: 1625213 | R46: 0 | S46: 0 | T46: 0 | U46: 0 | V46: 0 | W46: 233316 | X46: 0 | Y46: 0 | Z46: 0 | AA46: 0 | AB46: 0 | AC46: 0 | AD46: 0 | AE46: 233316
A47: C02.I05.P01.S15 | B47: PIREP AUTONÓMICO NAVARRA | C47: ID010 | D47: PIREP - Centro de industrialización y robótica de la construcción | E47: G | F47: 0544-02 | G47: MRR-PIREP Centro Nacional Industr y Rob | H47: 0 | I47: 0 | J47: 0 | K47: 0 | L47: 2000000 | M47: 0 | N47: 0 | O47: 0 | P47: 0 | Q47: 2000000 | R47: 0 | S47: 0 | T47: 0 | U47: 0 | V47: 0 | W47: 102897.69 | X47: 0 | Y47: 0 | Z47: 0 | AA47: 0 | AB47: 0 | AC47: 0 | AD47: 0 | AE47: 102897.69
A48: C03.I03.P01.S06 | B48: Inversiones para la mejora de la bioseguridad en explotaciones agrícolas de material vegetal de reproducción y en centros de limpieza y desinfección de medios de transporte de animales vivos (Navarra) | C48: ID013 | D48: Reforzar condiciones de bioseguridad en materia de sanidad animal y vegetal | E48: 7 | F48: 0459-01 | G48: MRR Ayudas Viveros | H48: 0 | I48: 167311.2 | J48: 98368.52 | K48: 107383.9 | L48: -46777.12 | M48: 0 | N48: -53100.28 | O48: -53100.28 | P48: 0 | Q48: 273186.22 | R48: 0 | S48: 0 | T48: 0 | U48: 67260.89 | V48: 157383.9 | W48: 95318.55 | X48: 0 | Y48: 0 | Z48: 0 | AA48: 0 | AB48: 0 | AC48: 0 | AD48: 0 | AE48: 319963.34
A49: C03.I03.P01.S06 | B49: Inversiones para la mejora de la bioseguridad en explotaciones agrícolas de material vegetal de reproducción y en centros de limpieza y desinfección de medios de transporte de animales vivos (Navarra) | C49: ID013 | D49: Reforzar condiciones de bioseguridad en materia de sanidad animal y vegetal | E49: 7 | F49: 0459-02 | G49: MRR Ayudas centros limpieza y desinfecc. | H49: 0 | I49: 261760.14 | J49: 94433.78 | K49: 118441.29 | L49: 46777.12 | M49: 0 | N49: -241246.71 | O49: -241246.71 | P49: 0 | Q49: 280165.62 | R49: 0 | S49: 0 | T49: 0 | U49: 7860.46 | V49: 22074.57 | W49: 203453.47 | X49: 0 | Y49: 0 | Z49: 0 | AA49: 0 | AB49: 0 | AC49: 0 | AD49: 0 | AE49: 233388.5
A50: C03.I04.P01.S12 | B50: Programas de apoyo a inversiones en explotaciones agrícolas y ganaderas (Navarra) | C50: ID014 | D50: Inversiones en explotaciones para la sostenibilidad y competitividad de la agricultura y la ganaderia | E50: 7 | F50: 0458-01 | G50: MRR Ayudas subprod. y deyecc. Ganadería | H50: 0 | I50: 591663 | J50: -33350.75 | K50: 0 | L50: -195528.29 | M50: 0 | N50: 0.01 | O50: 0 | P50: 0 | Q50: 362783.97 | R50: 0 | S50: 0 | T50: 0 | U50: 0 | V50: 362783.96 | W50: 0 | X50: 0 | Y50: 0 | Z50: 0 | AA50: 0 | AB50: 0 | AC50: 0 | AD50: 0 | AE50: 362783.96
A51: C03.I04.P01.S12 | B51: Programas de apoyo a inversiones en explotaciones agrícolas y ganaderas (Navarra) | C51: ID014 | D51: Inversiones en explotaciones para la sostenibilidad y competitividad de la agricultura y la ganaderia | E51: 7 | F51: 0458-02 | G51: MRR Ayudas trasnf. integral Invernaderos | H51: 0 | I51: 502405 | J51: -206682.44 | K51: 0 | L51: -295722.56 | M51: 0 | N51: 0.01 | O51: 0 | P51: 0 | Q51: 0.01 | R51: 0 | S51: 0 | T51: 0 | U51: 0 | V51: 0 | W51: 0 | X51: 0 | Y51: 0 | Z51: 0 | AA51: 0 | AB51: 0 | AC51: 0 | AD51: 0 | AE51: 0
A52: C03.I04.P01.S12 | B52: Programas de apoyo a inversiones en explotaciones agrícolas y ganaderas (Navarra) | C52: ID014 | D52: Inversiones en explotaciones para la sostenibilidad y competitividad de la agricultura y la ganaderia | E52: 7 | F52: 0458-03 | G52: MRR Ayudas inv. efic. energ. renov (biog | H52: 0 | I52: 118579 | J52: 0 | K52: -89037.4 | L52: 0 | M52: 0 | N52: 0.01 | O52: 0 | P52: 0 | Q52: 29541.61 | R52: 0 | S52: 0 | T52: 0 | U52: 0 | V52: 29541.6 | W52: 0 | X52: 0 | Y52: 0 | Z52: 0 | AA52: 0 | AB52: 0 | AC52: 0 | AD52: 0 | AE52: 29541.6
A53: C03.I04.P01.S12 | B53: Programas de apoyo a inversiones en explotaciones agrícolas y ganaderas (Navarra) | C53: ID014 | D53: Inversiones en explotaciones para la sostenibilidad y competitividad de la agricultura y la ganaderia | E53: 7 | F53: 0458-04 | G53: MRR Ayudas agr. prec. y tecn. 4.0 | H53: 0 | I53: 954741 | J53: 7163781.7 | K53: 3601774 | L53: 639913.73 | M53: 1921776.9 | N53: 0 | O53: 0 | P53: 0 | Q53: 14281987 | R53: 0 | S53: 0 | T53: 0 | U53: 0 | V53: 1808918.5 | W53: 9918704.5 | X53: 2475417.3 | Y53: 1898451 | Z53: 1898451 | AA53: 887701.06 | AB53: 0 | AC53: 0 | AD53: 0 | AE53: 14203040
A54: C04.I02.P01.S12 | B54: Conservación de la biodiversidad - NAV | C54: ID017 | D54: Modificación de tendidos eléctricos | E54: 7 | F54: 0456-01 | G54: MRR C4 Tendidos eléctricos | H54: 0 | I54: 1306676.9 | J54: 0 | K54: 0 | L54: 0 | M54: 0 | N54: 0 | O54: 0 | P54: 0 | Q54: 1306676.9 | R54: 0 | S54: 0 | T54: 0 | U54: 191441.8 | V54: 585565.03 | W54: 321251.04 | X54: 208419.08 | Y54: 208419.08 | Z54: 0 | AA54: 0 | AB54: 0 | AC54: 0 | AD54: 0 | AE54: 1306677
A55: C04.I02.P01.S12 | B55: Conservación de la biodiversidad - NAV | C55: ID015 | D55: Actuaciones (6) de conservación de la biodiversidad terrestre | E55: 7 | F55: 0499-01 | G55: MRR I2 Mejora ZEC"Estanca de Dos Reinos" | H55: 0 | I55: 0 | J55: 100000 | K55: 0 | L55: 0 | M55: 0 | N55: 0 | O55: 0 | P55: 0 | Q55: 100000 | R55: 0 | S55: 0 | T55: 0 | U55: 0 | V55: 0 | W55: 44591.09 | X55: 75408.91 | Y55: 19900.55 | Z55: 19900.55 | AA55: 0 | AB55: 0 | AC55: 0 | AD55: 0 | AE55: 120000
A56: C04.I02.P01.S12 | B56: Conservación de la biodiversidad - NAV | C56: ID015 | D56: Actuaciones (6) de conservación de la biodiversidad terrestre | E56: 7 | F56: 0499-02 | G56: MRR I2 Mejora habitat galápago europeo | H56: 0 | I56: 0 | J56: 150000 | K56: 0 | L56: 0 | M56: 0 | N56: 0 | O56: 0 | P56: 0 | Q56: 150000 | R56: 0 | S56: 0 | T56: 0 | U56: 0 | V56: 0 | W56: 20950.54 | X56: 148402.46 | Y56: 144362.3 | Z56: 144362.3 | AA56: 0 | AB56: 0 | AC56: 0 | AD56: 0 | AE56: 169353
A57: C04.I02.P01.S12 | B57: Conservación de la biodiversidad - NAV | C57: ID015 | D57: Actuaciones (6) de conservación de la biodiversidad terrestre | E57: 7 | F57: 0499-03 | G57: MRR I2 Actual.cartograf.habitats Navarra | H57: 0 | I57: 0 | J57: 20920 | K57: -20920 | L57: 0 | M57: 0 | N57: 0 | O57: 0 | P57: 0 | Q57: 0 | R57: 0 | S57: 0 | T57: 0 | U57: 0 | V57: 0 | W57: 0 | X57: 0 | Y57: 0 | Z57: 0 | AA57: 0 | AB57: 0 | AC57: 0 | AD57: 0 | AE57: 0
A58: C04.I02.P01.S12 | B58: Conservación de la biodiversidad - NAV | C58: ID015 | D58: Actuaciones (6) de conservación de la biodiversidad terrestre | E58: 7 | F58: 0499-04 | G58: MRR I2 Erradic.flora exótic.ZEC Río Ebro | H58: 0 | I58: 0 | J58: 300000 | K58: 20920 | L58: 0 | M58: 0 | N58: 0 | O58: 0 | P58: 0 | Q58: 320920 | R58: 0 | S58: 0 | T58: 0 | U58: 7207.5 | V58: 41623.81 | W58: 84210.77 | X58: 302754.6 | Y58: 296466.68 | Z58: 296466.68 | AA58: 0 | AB58: 0 | AC58: 0 | AD58: 0 | AE58: 435796.68
A59: C04.I02.P01.S12 | B59: Conservación de la biodiversidad - NAV | C59: ID015 | D59: Actuaciones (6) de conservación de la biodiversidad terrestre | E59: 7 | F59: 0499-05 | G59: MRR I2 Mtto y actualización de los CIN | H59: 0 | I59: 0 | J59: 300000 | K59: 0 | L59: 0 | M59: 0 | N59: 0 | O59: 0 | P59: 0 | Q59: 300000 | R59: 0 | S59: 0 | T59: 0 | U59: 0 | V59: 0 | W59: 113241.26 | X59: 305000 | Y59: 289401.75 | Z59: 47401.75 | AA59: 0 | AB59: 0 | AC59: 0 | AD59: 0 | AE59: 418241.26
... A100: C08.I01.P02.S09 | B100: Impulso del almacenamiento innovador detrás del contador e integrado sectorialmente Comunidad Foral de Navarra | C100: ID027 | D100: Programas de incentivos ligados al autoconsumo y al almacenamiento con fuentes de energía renovable,, así como a la implantación de sistemas térmicos renovables en el sector residencial | E100: 8 | F100: 0385-06 | G100: AUTOCONSUMO C8 - COSTES INDIRECTOS | H100: 0 | I100: 73414.76 | J100: 0 | K100: 0 | L100: 0 | M100: 0 | N100: 0.01 | O100: 0 | P100: 0 | Q100: 73414.77 | R100: 0 | S100: 0 | T100: 22781.68 | U100: 43673.05 | V100: 82878.86 | W100: 110756.67 | X100: 3809.17 | Y100: 3809.17 | Z100: 3809.17 | AA100: 0 | AB100: 0 | AC100: 0 | AD100: 0 | AE100: 263899.43
A101: C11.I02.P01.S07 | B101: J2030 NAVARRA, COMUNIDAD FORAL | C101: ID028 | D101: Proyecto 0: Infraestructuras para la transformación digital de la justicia | E101: F | F101: 0348-01 | G101: MRR PROYECTO 0 JUSTICIA 2030 | H101: 0 | I101: 440165.94 | J101: -82232.68 | K101: 75165.99 | L101: 0 | M101: 0 | N101: 0.01 | O101: 0 | P101: 0 | Q101: 433099.26 | R101: 0 | S101: 36687.2 | T101: 396412.05 | U101: 0 | V101: 0 | W101: 0 | X101: 0 | Y101: 0 | Z101: 0 | AA101: 0 | AB101: 0 | AC101: 0 | AD101: 0 | AE101: 433099.25
...

Sheet 6-PARTIDAS INGRESOS
A1: VOLVER AL INDICE | J1: ='5-TOTALES INGR Y GASTOS'!D3 -> Datos extraídos de SAP hasta hasta 31/03/2026 - exportados a 14/04/2026
A3: =SUBTOTAL(3,A6:A2000) -> 348 | B3: =SUBTOTAL(3,B6:B2000) -> 348 | C3: =SUBTOTAL(3,C6:C2000) -> 348 | D3: =SUBTOTAL(3,D6:D2000) -> 348 | E3: =SUBTOTAL(3,E6:E2000) -> 348 | F3: =SUBTOTAL(3,F6:F2000) -> 348 | G3: =SUBTOTAL(3,G6:G2000) -> 348 | H3: =SUBTOTAL(3,H6:H2000) -> 348 | I3: =SUBTOTAL(3,I6:I2000) -> 348 | J3: =SUBTOTAL(9,J6:J2000) -> 5509718 | K3: =SUBTOTAL(9,K6:K2000) -> 1.745175e+08 | L3: =SUBTOTAL(9,L6:L2000) -> 1.9199359e+08 | M3: =SUBTOTAL(9,M6:M2000) -> 1.654156e+08 | N3: =SUBTOTAL(9,N6:N2000) -> 75924268 | O3: =SUBTOTAL(9,O6:O2000) -> -2738909.8 | P3: =SUBTOTAL(9,P6:P2000) -> -14491661 | Q3: =SUBTOTAL(9,Q6:Q2000) -> -628437.33 | ... T3: =SUBTOTAL(9,T6:T2000) -> 6.0999333e+08
A5: Subproyecto del Sistema de Información (CoFFEE) | B5: Denominación CoFFEE | C5: ID Actuación | D5: Nombre Subproyecto / Actuación | E5: PC / EPEP | F5: Partida presupuestaria | G5: Departamento | H5: Capítulo de Gasto | I5: Descripción Partida | J5: Derechos 2020 | K5: Derechos 2021 | L5: Derechos 2022 | M5: Derechos 2023 | N5: Derechos 2024 | O5: Derechos 2025 | P5: Presupuesto definitivo 2026 | Q5: Derechos 2026 | R5: Presupuesto definitivo 2027 y siguientes | S5: Total Presupuesto definitivo | T5: Total Derechos
A6: C01.I01.P02.S18 | B6: Ayudas a la Comunidad Foral de Navarra para la ejecución de programas para la transformación digital y sostenible del transporte | C6: ID002 | D6: Zonas de bajas emisiones en entornos metropolitanos | E6: 0464-01 | F6: 230000 23200 7000 000000 | G6: 2 | H6: 7 | I6: MRR Actuaciones Movilidad Sostenible y Digital | J6: 0 | K6: 12540934 | L6: -5835293.6 | M6: -6705640.4 | N6: 0 | O6: 0 | P6: 0 | Q6: 0 | R6: 0 | S6: 0 | T6: 0
A7: C01.I01.P02.S18 | B7: Ayudas a la Comunidad Foral de Navarra para la ejecución de programas para la transformación digital y sostenible del transporte | C7: ID002 | D7: Zonas de bajas emisiones en entornos metropolitanos | E7: 0464-03 | F7: 230000 23200 7000 000000 | G7: 2 | H7: 7 | I7: MRR Actuaciones Movilidad Sostenible y Digital | J7: 0 | K7: 0 | L7: 494409.41 | M7: -367274.3 | N7: -30623.46 | O7: -3961.7 | P7: 0 | Q7: 0 | R7: 0 | S7: 92549.95 | T7: 92549.95
A8: C01.I01.P02.S18 | B8: Ayudas a la Comunidad Foral de Navarra para la ejecución de programas para la transformación digital y sostenible del transporte | C8: ID002 | D8: Zonas de bajas emisiones en entornos metropolitanos | E8: 0464-04 | F8: 230000 23200 7000 000000 | G8: 2 | H8: 7 | I8: MRR Actuaciones Movilidad Sostenible y Digital | J8: 0 | K8: 0 | L8: 546750.84 | M8: 36558.9 | N8: 0 | O8: -23944.27 | P8: 0 | Q8: 0 | R8: 0 | S8: 559365.47 | T8: 559365.47
A9: C01.I01.P02.S18 | B9: Ayudas a la Comunidad Foral de Navarra para la ejecución de programas para la transformación digital y sostenible del transporte | C9: ID002 | D9: Zonas de bajas emisiones en entornos metropolitanos | E9: 0464-05 | F9: 230000 23200 3800 000000 | G9: 2 | H9: 3 | I9: MRR Reintegros Actuaciones Movilidad Sostenible y Digital | J9: 0 | K9: 0 | L9: 0 | M9: 0 | N9: 128434.08 | O9: 0 | P9: 0 | Q9: 0 | R9: 0 | S9: 128434.08 | T9: 128434.08
A10: C01.I01.P02.S18 | B10: Ayudas a la Comunidad Foral de Navarra para la ejecución de programas para la transformación digital y sostenible del transporte | C10: ID002 | D10: Zonas de bajas emisiones en entornos metropolitanos | E10: 0464-05 | F10: 230000 23200 7000 000000 | G10: 2 | H10: 7 | I10: MRR Actuaciones Movilidad Sostenible y Digital | J10: 0 | K10: 0 | L10: 833234.74 | M10: 0 | N10: -128434.08 | O10: -34203.43 | P10: 0 | Q10: 0 | R10: 0 | S10: 670597.23 | T10: 670597.23
A11: C01.I01.P02.S18 | B11: Ayudas a la Comunidad Foral de Navarra para la ejecución de programas para la transformación digital y sostenible del transporte | C11: ID002 | D11: Zonas de bajas emisiones en entornos metropolitanos | E11: 0464-06 | F11: 230000 23200 7000 000000 | G11: 2 | H11: 7 | I11: MRR Actuaciones Movilidad Sostenible y Digital | J11: 0 | K11: 0 | L11: 789198.56 | M11: -39308.57 | N11: -162268.87 | O11: -24121.24 | P11: 0 | Q11: 0 | R11: 0 | S11: 563499.88 | T11: 563499.88
A12: C01.I01.P02.S18 | B12: Ayudas a la Comunidad Foral de Navarra para la ejecución de programas para la transformación digital y sostenible del transporte | C12: ID002 | D12: Zonas de bajas emisiones en entornos metropolitanos | E12: 0464-07 | F12: 230000 23200 7000 000000 | G12: 2 | H12: 7 | I12: MRR Actuaciones Movilidad Sostenible y Digital | J12: 0 | K12: 0 | L12: 1333929.4 | M12: -80016.46 | N12: -207286.66 | O12: -42962.93 | P12: 0 | Q12: 0 | R12: 0 | S12: 1003663.4 | T12: 1003663.4
A13: C01.I01.P02.S18 | B13: Ayudas a la Comunidad Foral de Navarra para la ejecución de programas para la transformación digital y sostenible del transporte | C13: ID002 | D13: Zonas de bajas emisiones en entornos metropolitanos | E13: 0464-08 | F13: 230000 23200 7000 000000 | G13: 2 | H13: 7 | I13: MRR Actuaciones Movilidad Sostenible y Digital | J13: 0 | K13: 0 | L13: 916699.47 | M13: -59342.49 | N13: -185489.97 | O13: -27579.45 | P13: 0 | Q13: 0 | R13: 0 | S13: 644287.56 | T13: 644287.56
